BEGIN:VCALENDAR
VERSION:2.0
PRODID:-//Agenda Turismo - ECPv6.15.18//NONSGML v1.0//EN
CALSCALE:GREGORIAN
METHOD:PUBLISH
X-WR-CALNAME:Agenda Turismo
X-ORIGINAL-URL:https://agenda.turismoposadas.tur.ar
X-WR-CALDESC:Eventos para Agenda Turismo
REFRESH-INTERVAL;VALUE=DURATION:PT1H
X-Robots-Tag:noindex
X-PUBLISHED-TTL:PT1H
BEGIN:VTIMEZONE
TZID:UTC
BEGIN:STANDARD
TZOFFSETFROM:+0000
TZOFFSETTO:+0000
TZNAME:UTC
DTSTART:20250101T000000
END:STANDARD
END:VTIMEZONE
BEGIN:VTIMEZONE
TZID:America/Argentina/Buenos_Aires
BEGIN:STANDARD
TZOFFSETFROM:-0300
TZOFFSETTO:-0300
TZNAME:-03
DTSTART:20250101T000000
END:STANDARD
END:VTIMEZONE
BEGIN:VEVENT
DTSTART;VALUE=DATE:20260423
DTEND;VALUE=DATE:20260426
DTSTAMP:20260424T020809
CREATED:20260304T125017Z
LAST-MODIFIED:20260304T125017Z
UID:4497-1776902400-1777161599@agenda.turismoposadas.tur.ar
SUMMARY:Próxima Parada: 20° Curso Internacional de Cirugía Vaginal
DESCRIPTION:
URL:https://agenda.turismoposadas.tur.ar/evento/proxima-parada-20-curso-internacional-de-cirugia-vaginal/
LOCATION:Colegio de Médicos de la Provincia de Misiones\, Salta 2255\, Posadas\, Misiones\, 3300\, Argentina
CATEGORIES:Agenda MICE-Deportivo,MICE
ATTACH;FMTTYPE=image/jpeg:https://agenda.turismoposadas.tur.ar/wp-content/uploads/2026/03/1001594838.jpg
END:VEVENT
BEGIN:VEVENT
DTSTART;TZID=America/Argentina/Buenos_Aires:20260423T223000
DTEND;TZID=America/Argentina/Buenos_Aires:20260424T010000
DTSTAMP:20260424T020809
CREATED:20260422T174846Z
LAST-MODIFIED:20260422T174846Z
UID:5223-1776983400-1776992400@agenda.turismoposadas.tur.ar
SUMMARY:Los Foracks
DESCRIPTION:En el Casino Club Garupá. A partir de las 22:30 horas.
URL:https://agenda.turismoposadas.tur.ar/evento/los-foracks-4/
LOCATION:Casino Club Garupá\, RN12 3300\, Garupá\, Misiones\, 3300\, Argentina
END:VEVENT
BEGIN:VEVENT
DTSTART;TZID=UTC:20260424T180000
DTEND;TZID=UTC:20260424T200000
DTSTAMP:20260424T020809
CREATED:20260413T181256Z
LAST-MODIFIED:20260413T181256Z
UID:5043-1777053600-1777060800@agenda.turismoposadas.tur.ar
SUMMARY:Memorias de Villa Urquiza: del Barrio al Mercado
DESCRIPTION:
URL:https://agenda.turismoposadas.tur.ar/evento/memorias-de-villa-urquiza-del-barrio-al-mercado/
LOCATION:Mercado Villa Urquiza\, Av. Cabred y Calle Herrera\, Posadas\, Misiones\, 3300\, Argentina
CATEGORIES:Agenda Ciudad,Baile,Cerveza artesanal,Cine,Feria Artesanal,Ferias y Exposiciones,Gastronomía,Paseos Guiados
ATTACH;FMTTYPE=image/jpeg:https://agenda.turismoposadas.tur.ar/wp-content/uploads/2026/04/evento_destacado_6.jpg
END:VEVENT
BEGIN:VEVENT
DTSTART;TZID=America/Argentina/Buenos_Aires:20260424T180000
DTEND;TZID=America/Argentina/Buenos_Aires:20260424T200000
DTSTAMP:20260424T020809
CREATED:20260422T180633Z
LAST-MODIFIED:20260422T180633Z
UID:5230-1777053600-1777060800@agenda.turismoposadas.tur.ar
SUMMARY:Circuito Guiado Memorias de Villa Urquiza.
DESCRIPTION:Punto de encuentro: Darsena Calle Colón\, Plaza 9 de Julio. A las 18:00 horas. Inscripción previa. CUPOS LIMITADOS.
URL:https://agenda.turismoposadas.tur.ar/evento/circuito-guiado-memorias-de-villa-urquiza/
LOCATION:Plaza 9 de Julio\, Bolívar y Colón\, Posadas\, Misiones\, 3300\, Argentina
CATEGORIES:Agenda Ciudad,Paseos Guiados
ATTACH;FMTTYPE=image/jpeg:https://agenda.turismoposadas.tur.ar/wp-content/uploads/2026/04/paseo-guiado-memorias-urquiza.jpg
END:VEVENT
BEGIN:VEVENT
DTSTART;TZID=America/Argentina/Buenos_Aires:20260424T180000
DTEND;TZID=America/Argentina/Buenos_Aires:20260424T203000
DTSTAMP:20260424T020809
CREATED:20260422T175042Z
LAST-MODIFIED:20260422T175042Z
UID:5226-1777053600-1777062600@agenda.turismoposadas.tur.ar
SUMMARY:La Posesión de la Momia
DESCRIPTION:En el Imax del Conocimiento. Ver funciones en el flyer.
URL:https://agenda.turismoposadas.tur.ar/evento/la-posesion-de-la-momia-2/
LOCATION:imax
CATEGORIES:Agenda Ciudad,Cine,IMAX
ATTACH;FMTTYPE=image/jpeg:https://agenda.turismoposadas.tur.ar/wp-content/uploads/2026/04/cine.jpg
END:VEVENT
BEGIN:VEVENT
DTSTART;TZID=America/Argentina/Buenos_Aires:20260424T200000
DTEND;TZID=America/Argentina/Buenos_Aires:20260424T230000
DTSTAMP:20260424T020809
CREATED:20260422T180853Z
LAST-MODIFIED:20260422T180853Z
UID:5233-1777060800-1777071600@agenda.turismoposadas.tur.ar
SUMMARY:Bajo las Estrellas
DESCRIPTION:En el Catamarán Misión Paraná. Embarque a las 20:00 horas. Compra de tickets en www.misionparana.com
URL:https://agenda.turismoposadas.tur.ar/evento/bajo-las-estrellas-5/
LOCATION:Misiones
CATEGORIES:Agenda Ciudad,Náutica,Paseo náutico
ATTACH;FMTTYPE=image/jpeg:https://agenda.turismoposadas.tur.ar/wp-content/uploads/2026/04/bajo-las-estrellas-catamaran.jpg
END:VEVENT
BEGIN:VEVENT
DTSTART;TZID=America/Argentina/Buenos_Aires:20260424T203000
DTEND;TZID=America/Argentina/Buenos_Aires:20260424T223000
DTSTAMP:20260424T020809
CREATED:20260422T181145Z
LAST-MODIFIED:20260422T181145Z
UID:5236-1777062600-1777069800@agenda.turismoposadas.tur.ar
SUMMARY:El Libertador no tiene quien le escriba
DESCRIPTION:En Tanta Tinta. A partir de las 20:30 horas.
URL:https://agenda.turismoposadas.tur.ar/evento/el-libertador-no-tiene-quien-le-escriba/
LOCATION:Tanta Tinta\, Belgrano 1771\, Posadas\, Misiones\, 3300\, Argentina
CATEGORIES:Agenda Ciudad,Teatro
ATTACH;FMTTYPE=image/jpeg:https://agenda.turismoposadas.tur.ar/wp-content/uploads/2026/04/el-libertador.jpg
END:VEVENT
BEGIN:VEVENT
DTSTART;TZID=America/Argentina/Buenos_Aires:20260424T210000
DTEND;TZID=America/Argentina/Buenos_Aires:20260424T233000
DTSTAMP:20260424T020809
CREATED:20260422T181407Z
LAST-MODIFIED:20260422T181407Z
UID:5239-1777064400-1777073400@agenda.turismoposadas.tur.ar
SUMMARY:Rata Blanca
DESCRIPTION:En UMMA. A partir de las 21:00 horas. Compra de tickets en www.ticketmisiones.com
URL:https://agenda.turismoposadas.tur.ar/evento/rata-blanca/
LOCATION:UMMA\, Av. Maipú 2260\, Posadas\, Misiones\, 3300\, Argentina
CATEGORIES:Agenda Ciudad,Música en Vivo,Recital,Show
ATTACH;FMTTYPE=image/jpeg:https://agenda.turismoposadas.tur.ar/wp-content/uploads/2026/04/rata-blanca.jpg
END:VEVENT
BEGIN:VEVENT
DTSTART;TZID=America/Argentina/Buenos_Aires:20260424T213000
DTEND;TZID=America/Argentina/Buenos_Aires:20260424T233000
DTSTAMP:20260424T020809
CREATED:20260422T181858Z
LAST-MODIFIED:20260422T181858Z
UID:5242-1777066200-1777073400@agenda.turismoposadas.tur.ar
SUMMARY:Kevin Johansen y Liniers
DESCRIPTION:Se presentan por primera vez en el Auditorium Montoya. A partir de las 21:30 horas.
URL:https://agenda.turismoposadas.tur.ar/evento/kevin-johansen-y-liniers/
LOCATION:Auditorium Instituto Montoya\, Calle Ayacucho 1962\, Posadas\, Misiones\, 3300\, Argentina
CATEGORIES:Agenda Ciudad,Show,Stand up,Teatro
ATTACH;FMTTYPE=image/jpeg:https://agenda.turismoposadas.tur.ar/wp-content/uploads/2026/04/kevin-liniers.jpg
END:VEVENT
BEGIN:VEVENT
DTSTART;TZID=America/Argentina/Buenos_Aires:20260424T223000
DTEND;TZID=America/Argentina/Buenos_Aires:20260424T233000
DTSTAMP:20260424T020809
CREATED:20260422T182120Z
LAST-MODIFIED:20260422T182120Z
UID:5245-1777069800-1777073400@agenda.turismoposadas.tur.ar
SUMMARY:JAM del Río
DESCRIPTION:En Tanta Tinta. A partir de las 22:30 horas.
URL:https://agenda.turismoposadas.tur.ar/evento/jam-del-rio-7/
LOCATION:Tanta Tinta\, Belgrano 1771\, Posadas\, Misiones\, 3300\, Argentina
CATEGORIES:Agenda Ciudad,Música en Vivo,Show
ATTACH;FMTTYPE=image/jpeg:https://agenda.turismoposadas.tur.ar/wp-content/uploads/2026/04/jam-del-rioooo.jpg
END:VEVENT
BEGIN:VEVENT
DTSTART;TZID=America/Argentina/Buenos_Aires:20260424T223000
DTEND;TZID=America/Argentina/Buenos_Aires:20260425T010000
DTSTAMP:20260424T020809
CREATED:20260422T182300Z
LAST-MODIFIED:20260422T182300Z
UID:5249-1777069800-1777078800@agenda.turismoposadas.tur.ar
SUMMARY:Maru & su Grupo
DESCRIPTION:En el Casino Club Quaranta. A partir de las 22:30 horas.
URL:https://agenda.turismoposadas.tur.ar/evento/maru-su-grupo-3/
LOCATION:Casino Club Quaranta\, Avenida Quaranta 6045\, Posadas\, Misiones\, 3300\, Argentina
CATEGORIES:Agenda Ciudad,Música en Vivo,Show
ATTACH;FMTTYPE=image/jpeg:https://agenda.turismoposadas.tur.ar/wp-content/uploads/2026/04/casino.jpg
END:VEVENT
END:VCALENDAR