BEGIN:VCALENDAR
VERSION:2.0
PRODID:-//Agenda Turismo - ECPv6.15.18//NONSGML v1.0//EN
CALSCALE:GREGORIAN
METHOD:PUBLISH
X-ORIGINAL-URL:https://agenda.turismoposadas.tur.ar
X-WR-CALDESC:Eventos para Agenda Turismo
REFRESH-INTERVAL;VALUE=DURATION:PT1H
X-Robots-Tag:noindex
X-PUBLISHED-TTL:PT1H
BEGIN:VTIMEZONE
TZID:America/Argentina/Buenos_Aires
BEGIN:STANDARD
TZOFFSETFROM:-0300
TZOFFSETTO:-0300
TZNAME:-03
DTSTART:20240101T000000
END:STANDARD
END:VTIMEZONE
BEGIN:VEVENT
DTSTART;TZID=America/Argentina/Buenos_Aires:20250510T160000
DTEND;TZID=America/Argentina/Buenos_Aires:20250510T233000
DTSTAMP:20260422T020709
CREATED:20250507T202732Z
LAST-MODIFIED:20250507T202732Z
UID:1636-1746892800-1746919800@agenda.turismoposadas.tur.ar
SUMMARY:Brilla Sarita
DESCRIPTION:En el Parque Paraguayo. A partir de las 16:00 horas.
URL:https://agenda.turismoposadas.tur.ar/evento/brilla-sarita-2/
LOCATION:Parque Paraguayo\, Roque González 500-598\, Posadas\, Misiones\, 3300\, Argentina
CATEGORIES:Agenda Ciudad,Cerveza artesanal,Gastronomía,Música en Vivo
ATTACH;FMTTYPE=image/jpeg:https://agenda.turismoposadas.tur.ar/wp-content/uploads/2025/05/brilla-sarita.jpg
END:VEVENT
END:VCALENDAR