BEGIN:VCALENDAR
VERSION:2.0
PRODID:-//Agenda Turismo - ECPv6.15.18//NONSGML v1.0//EN
CALSCALE:GREGORIAN
METHOD:PUBLISH
X-WR-CALNAME:Agenda Turismo
X-ORIGINAL-URL:https://agenda.turismoposadas.tur.ar
X-WR-CALDESC:Eventos para Agenda Turismo
REFRESH-INTERVAL;VALUE=DURATION:PT1H
X-Robots-Tag:noindex
X-PUBLISHED-TTL:PT1H
BEGIN:VTIMEZONE
TZID:America/Argentina/Buenos_Aires
BEGIN:STANDARD
TZOFFSETFROM:-0300
TZOFFSETTO:-0300
TZNAME:-03
DTSTART:20240101T000000
END:STANDARD
END:VTIMEZONE
BEGIN:VEVENT
DTSTART;TZID=America/Argentina/Buenos_Aires:20250831T160000
DTEND;TZID=America/Argentina/Buenos_Aires:20250831T200000
DTSTAMP:20260421T213255
CREATED:20250827T213025Z
LAST-MODIFIED:20250827T213153Z
UID:3012-1756656000-1756670400@agenda.turismoposadas.tur.ar
SUMMARY:Fashion ∞ Show SMM25: desfile\, música\, gastronomía
DESCRIPTION:En El Pontón (Av. Tambor de Tacuarí 8160). A partir de las 16:00 horas.
URL:https://agenda.turismoposadas.tur.ar/evento/fashion-%e2%88%9e-show-smm25-desfile-musica-gastronomia/
LOCATION:El Pontón\, Av. Tambor de Tacuarí 8160\, Posadas\, Misiones\, 3300\, Argentina
CATEGORIES:Agenda Ciudad,DJ en vivo,Ferias y Exposiciones,Gastronomía,Música en Vivo
END:VEVENT
END:VCALENDAR