BEGIN:VCALENDAR
VERSION:2.0
PRODID:-//Agenda Turismo - ECPv6.15.18//NONSGML v1.0//EN
CALSCALE:GREGORIAN
METHOD:PUBLISH
X-ORIGINAL-URL:https://agenda.turismoposadas.tur.ar
X-WR-CALDESC:Eventos para Agenda Turismo
REFRESH-INTERVAL;VALUE=DURATION:PT1H
X-Robots-Tag:noindex
X-PUBLISHED-TTL:PT1H
BEGIN:VTIMEZONE
TZID:America/Argentina/Buenos_Aires
BEGIN:STANDARD
TZOFFSETFROM:-0300
TZOFFSETTO:-0300
TZNAME:-03
DTSTART:20240101T000000
END:STANDARD
END:VTIMEZONE
BEGIN:VEVENT
DTSTART;TZID=America/Argentina/Buenos_Aires:20251212T180000
DTEND;TZID=America/Argentina/Buenos_Aires:20251213T010000
DTSTAMP:20260421T154623
CREATED:20251210T184716Z
LAST-MODIFIED:20251210T185201Z
UID:3875-1765562400-1765587600@agenda.turismoposadas.tur.ar
SUMMARY:Reinauguración del Mercado Villa Urquiza + Festival "Brilla Urquiza"
DESCRIPTION:A las 18:00 horas.  Más info en https://www.instagram.com/direccion.inversion
URL:https://agenda.turismoposadas.tur.ar/evento/reinauguracion-del-mercado-villa-urquiza-festival-brilla-urquiza/
LOCATION:Mercado Villa Urquiza\, Av. Cabred y Calle Herrera\, Posadas\, Misiones\, 3300\, Argentina
CATEGORIES:Agenda Ciudad,Cerveza artesanal,DJ en vivo,Gastronomía,Música en Vivo
ATTACH;FMTTYPE=image/jpeg:https://agenda.turismoposadas.tur.ar/wp-content/uploads/2025/12/IMG-20251210-WA0017.jpg
END:VEVENT
BEGIN:VEVENT
DTSTART;TZID=America/Argentina/Buenos_Aires:20251213T170000
DTEND;TZID=America/Argentina/Buenos_Aires:20251213T233000
DTSTAMP:20260421T154623
CREATED:20251210T175116Z
LAST-MODIFIED:20251210T182510Z
UID:3858-1765645200-1765668600@agenda.turismoposadas.tur.ar
SUMMARY:Expo Posadas al Río
DESCRIPTION:En la Playa El Brete\, a partir de las 17:00 horas.
URL:https://agenda.turismoposadas.tur.ar/evento/expo-posadas-al-rio-2/
LOCATION:Balneario El Brete\, Av. Teresa de Calcuta y Av. Gendarmería Nacional\, Posadas\, Misiones\, 3300\, Argentina
CATEGORIES:Agenda Ciudad,Cerveza artesanal,DJ en vivo,Ferias y Exposiciones,Gastronomía,Música en Vivo,Náutica
ATTACH;FMTTYPE=image/jpeg:https://agenda.turismoposadas.tur.ar/wp-content/uploads/2025/12/Expo-Posadas-al-Rio.jpg
END:VEVENT
END:VCALENDAR