BEGIN:VCALENDAR
VERSION:2.0
PRODID:-//Agenda Turismo - ECPv6.15.18//NONSGML v1.0//EN
CALSCALE:GREGORIAN
METHOD:PUBLISH
X-ORIGINAL-URL:https://agenda.turismoposadas.tur.ar
X-WR-CALDESC:Eventos para Agenda Turismo
REFRESH-INTERVAL;VALUE=DURATION:PT1H
X-Robots-Tag:noindex
X-PUBLISHED-TTL:PT1H
BEGIN:VTIMEZONE
TZID:America/Argentina/Buenos_Aires
BEGIN:STANDARD
TZOFFSETFROM:-0300
TZOFFSETTO:-0300
TZNAME:-03
DTSTART:20240101T000000
END:STANDARD
END:VTIMEZONE
BEGIN:VEVENT
DTSTART;TZID=America/Argentina/Buenos_Aires:20251214T170000
DTEND;TZID=America/Argentina/Buenos_Aires:20251214T233000
DTSTAMP:20260421T154619
CREATED:20251210T180114Z
LAST-MODIFIED:20251210T180114Z
UID:3864-1765731600-1765755000@agenda.turismoposadas.tur.ar
SUMMARY:Expo Posadas al Río
DESCRIPTION:En la Playa El Brete. A partir de las 17:00 horas.
URL:https://agenda.turismoposadas.tur.ar/evento/expo-posadas-al-rio-3/
LOCATION:Balneario El Brete\, Av. Teresa de Calcuta y Av. Gendarmería Nacional\, Posadas\, Misiones\, 3300\, Argentina
CATEGORIES:Agenda Ciudad,Astronomía,Cerveza artesanal,DJ en vivo,Música en Vivo,Náutica,Show
ATTACH;FMTTYPE=image/jpeg:https://agenda.turismoposadas.tur.ar/wp-content/uploads/2025/12/Expo-Posadas-al-Rio.jpg
END:VEVENT
END:VCALENDAR